Workbook
Name CMedios: Medios[Descripción]
Name CRespuestas: Fundamentación!$C$13:$C$24
Name CTramites: Fundamentación!$C$29:$C$31

Sheet marzo 2026
A1: Mes que reporta | B1: 1 | C1: <== Escriba en esta celda el número de mes que reporta y el año | F1: Resumen | G1: No. de solicitudes recibidas en el mes | H1: 25 | I1: <== No escriba aquí nada, el formato calcula automáticamnete estos valores
A2: ABRIL | B2: ABRIL | G2: No. de solicitudes respondidas en el mes | H2: 24 | I2: <== No escriba aquí nada, el formato calcula automáticamnete estos valores
A3: Año que reporta | B3: 2026 | M3: Notas:
A4: 2026 | M4: 1 | N4: Solamente se capturan datos en celdas en amarillo.
M5: 2 | N5: Los folios pueden ser recibidos en un mes y contestados en otro. Para su correcta contabilización, si un folio es recibido en un mes y contestado en el siguiente, deberá incluirse en ambos reportes. El resumen tomará en cuenta esto para no cotabilizarlo doble.
A6: Reporte enviado a la CEGAIP, Art 34FXV , Art 54FVIII y XII
D7: Actualizado 30/04/2026
A9: Número de folio. | B9: Nombre del solicitante | C9: Fecha de Recepción | D9: Información Solicitada | E9: Trámite | F9: Respuesta | G9: Fecha de Respuesta | H9: Resultado | I9: Costo de Reproducción | J9: Medio de Notificación | K9: Costo de envio | L9: Mes de Recepción | M9: Mes de Respuesta | N9: Mes de Recepción2 | O9: Mes de Respuesta3
A10: 241230326000076 | B10: Solicitante | C10: 46105 | D10: Informe si el inmueble ubicado en el Centro Comercial El Dorado ubicado en calle Nereo Rodríguez Barragán # 450, Colonia Del Valle, San Luis Potosi, SLP. cuenta con todos sus permisos de esa Dependencia y si ha tenido alguna queja de vecinos o algún problema de salud de sus ocupantes que pudiera afectar a la comunidad | E10: Contestada | F10: Se requiere al solicitante. | G10: 46120 | H10: SSSLP/UT.089/2026 | I10: 0 | J10: PNT | K10: 0 | L10: =IF('marzo 2026'!#REF!<>"",MONTH(#REF!),"") -> #REF! | M10: =IF('marzo 2026'!$G10<>"",MONTH(G10),"") -> 4 | N10: 3 | O10: 4
A11: 241230326000079 | B11: Kenia Hernández González | C11: 46110 | D11: Información sobre afectaciones a la salud y quejas por contaminación del aire en zonas sin monitoreo en San Luis Potosí A quien corresponda: Solicito información relacionada con posibles afectaciones a la salud y registros institucionales vinculados a la calidad del aire en zonas sin monitoreo ambiental en el estado de San Luis Potosí, particularmente en la Zona Industrial, Villa de Pozos, Villa de Reyes y colonias cercanas a ladrilleras. En específico, solicito: 1. Información epidemiológica * Indicar si se ha identificado un aumento en la incidencia o prevalencia de enfermedades respiratorias en dichas zonas durante el periodo 2024 a 2026. * Desglosar, en la medida de lo posible, por tipo de padecimiento, incluyendo: - Enfermedades respiratorias crónicas (asma, EPOC u otras) - Enfermedades no transmisibles asociadas a la calidad del aire * Proporcionar tasas, porcentajes o indicadores disponibles, así como la metodología utilizada para su registro. * Señalar si existe algún estudio, diagnóstico o análisis que relacione dichas enfermedades con factores ambientales o contaminación del aire. 2. Identificación de riesgos y pronunciamientos institucionales * Indicar si la institución ha emitido alertas, recomendaciones, diagnósticos o pronunciamientos sobre riesgos a la salud derivados de la contaminación del aire en las zonas mencionadas. * En caso afirmativo, proporcionar copia de dichos documentos. 3. Atención a población vulnerable * Indicar si existen programas, campañas o acciones dirigidas a la atención o prevención de afectaciones a la salud en poblaciones expuestas a contaminación del aire en zonas sin monitoreo. * Especificar si se han identificado grupos vulnerables en dichas zonas. En caso de no contar con información en alguno de los puntos, solicito se declare expresamente su inexistencia. Solicito que la información sea proporcionada en formato electrónico y abierto, incluyendo documentos, bases de datos y notas metodológicas disponibles. Sin otro particular, quedo atenta a su respuesta. Atentamente | E11: Contestada | F11: Se pone a disposición la información para consulta directa. | G11: 46126 | H11: SSSLP/UT.098/2026 | I11: 0 | J11: PNT | K11: 0 | L11: =IF('marzo 2026'!$C10<>"",MONTH(C10),"") -> 3 | M11: =IF('marzo 2026'!$G11<>"",MONTH(G11),"") -> 4 | N11: 3 | O11: 4
A12: 241230326000080 | B12: Arturo Ortega Rajoy | C12: 46110 | D12: Áreas, localidades o ciudades identificadas con mayores niveles de contaminación en el aire en años 2021, 2022, 2023, 2024, 2025 y 2026. Principales sustancias contaminantes detectadas en el aire en esos años. Daños identificados y/o asociados por respirar aire contaminado, en esos años. Relación de fuentes contaminantes identificadas en SLP en esos años. Casos de asma contabilizados en esos años. Casos de enfermedad pulmonar obstructiva crónica contabilizados en esos años. Casos de enfisemas pulmonar contabilizados en esos años. Casos de cáncer de pulmón contabilizados en esos años. Casos de neumonías contabilizados en esos años. Fallecimientos totales causados por asma, enfermedad pulmonar obstructiva crónica, enfisema pulmonar, cáncer de pulmón, y nuemonías, registrados en años 2021, 2022, 2023, 2024, 2025 y 2026. Días de la semana identificados como los de mayores niveles de contaminación. Cantidad de personas que padecen asma, enfisema pulmonar, cáncer pulmonar, EPOCs o infecciones de vías respiratorias en años 2021, 2022, 2023, 2024, 2025 y 2026. Índice de Calidad del Aire en las áreas monitoreadas en SLP en esos años. Inversión realizada en esos años, para adquisición de nuevas estaciones de monitoreo de la calidad del aire. Inversión realizada en esos años, para reparación o mantenimiento de estaciones de monitoreo de la calidad del aire. Relación de estaciones de monitoreo de la calidad del aire en SLP. Etátus físico identificado de esos equipos en años 2021, 2022, 2023, 2024, 2025 y 2026 | E12: Contestada | F12: Se pone a disposición la información para consulta directa. | G12: 46126 | H12: SSSLP/UT.099/2026 | I12: 0 | J12: PNT | K12: 0 | L12: =IF('marzo 2026'!$C11<>"",MONTH(C11),"") -> 3 | M12: =IF('marzo 2026'!$G12<>"",MONTH(G12),"") -> 4 | N12: 3 | O12: 4
A13: 241230326000083 | B13: Tania Garcia Reyes | C13: 46111 | D13: Buenos días. De acuerdo con los lineamientos emitidos por la Unidad de Coordinación Nacional de Abastecimiento de Medicamentos y Equipamiento Médico, del INSABI (Instituto Nacional de Salud y Bienestar) con motivo de consolidar los Requerimientos de la demanda de medicamentos y material de curación para su adquisición consolidada para el ejercicio 2026 y 2027, solicito atentamente a su Institución y a las personas involucradas en dicho proceso los datos capturados en la plataforma SISTEMA DE GESTIÓN DE GASTOS CATASTRÓFICOS (SIGGC) VERSIÓN 4.0 realizadas entre el 01 de enero 2026 y el 31 de marzo 2026, esta solicitud se realizó para el ejercicio de estimación de la demanda asociada a los medicamentos e insumos asociados con el FONSABI y SADMI de acuerdo con lo anterior es de nuestro interés solicitar de manera respetuosa lo siguiente: 1. Listado de medicamentos y material de curación capturados en dicho proceso (Carga de la demanda) y mencionada plataforma (SISTEMA DE GESTIÓN DE GASTOS CATASTRÓFICOS (SIGGC)” VERSIÓN 4.0), dicho listado debe contener: a. Fecha de captura. b. Nombre de la Unidad Médica. c. CLUES (Clave Única de Establecimientos de Salud) de destino. d. CLUES (Clave Única de Establecimientos de Salud) solicitante. e. Clave del medicamentos o insumo (Clave del Compendio Nacional de Insumos para la Salud). f. Descripción. g. Grupo terapéutico. h. Cantidad solicitada. i. Cantidad ajustada. j. Cantidad validada. k. Precio de Referencia. l. Fuente de Financiamiento. m. Estatus (Autorizado, rechazado, cargado, validado, pendiente de validar). n. Comentario. p. Observaciones y ajustes. 2.- Presupuesto destinado por fuente de financiamiento para dicho proceso. AGRADECEREMOS EL ENVÍO DE LA INFORMACIÓN EN ARCHIVO DE EXCEL, YA QUE SU DESCARGA DESDE LA PLATAFORMA DE SISTEMA DE GESTIÓN DE GASTOS CATASTRÓFICOS (SIGGC)” VERSIÓN 4.0 ES COMPATIBLE CON DICHO SOFTWARE. Sin más por el momento, agradezco sus atenciones y estaré atento a su oportuna respuesta. | E13: Contestada | F13: Sujeto obligado no competente, se le orienta ante qué sujeto obligado presentar su solicitud de información. | G13: 46118 | H13: SSSLP/UT.086/2026 | I13: 0 | J13: PNT | K13: 0 | L13: =IF('marzo 2026'!$C12<>"",MONTH(C12),"") -> 3 | M13: =IF('marzo 2026'!$G13<>"",MONTH(G13),"") -> 4 | N13: 3 | O13: 4
A14: 241230326000084 | B14: Juan Carlos Mandujano | C14: 46111 | D14: A la Unidad de Transparencia de los Servicios de Salud del Estado de San Luis Potosí: Por medio de la presente, y con fundamento en los artículos 6° de la Constitución Política de los Estados Unidos Mexicanos, así como en la Ley General de Transparencia y Acceso a la Información Pública, solicito atentamente la siguiente información: Requerimiento: Solicito el detalle del inventario de medicamentos correspondiente a los grupos 010, 020, 030 y 040, existente en el o los almacenes estatales de la Secretaría de Salud de San Luis Potosí. Al corte del 28 de FEBRERO DE 2026. La información solicitada deberá incluir, de manera enunciativa mas no limitativa: Clave del medicamento Descripción del medicamento Número de piezas en existencia Fecha de corte del inventario Ubicación del almacén (en caso de existir más de uno) Modalidad de entrega: Solicito que la información sea proporcionada en formato electrónico a través de la Plataforma Nacional de Transparencia. Sin otro particular, agradezco de antemano la atención a la presente solicitud. Atentamente Juan Carlos Mandujano D. | E14: Contestada | F14: Se pone a disposición la información para consulta directa. | G14: 46120 | H14: SSSLP/UT.093/2026 | I14: 0 | J14: PNT | K14: 0 | L14: =IF('marzo 2026'!$C13<>"",MONTH(C13),"") -> 3 | M14: =IF('marzo 2026'!$G14<>"",MONTH(G14),"") -> 4 | N14: 3 | O14: 4
A15: 241230326000085 | B15: Solicitante | C15: 46111 | D15: 1- Solicito las entregas que realizaron los Proveedores de Medicamentos de cada uno de los medicamentos (Grupos 010, 030 y 040), Vacunas (020) a los diferentes Almacenes o Hospitales durante MARZO 2026, caracterizado con las siguientes columnas por producto: Nombre del Proveedor, Clave del producto, descripción genérica del producto, nombre del fabricante, nombre comercial, precio unitario, fecha de entrega, cantidad entregada, No. de folio o remisión de entrega, No. de contrato, No. de Licitación o Adjudicación directa así que cantidades Máximas y Mínimas (Qmax y Qmin). Favor de incluir las piezas surtidas por el INSABI, UNOPS, donaciones y el Servicios de Salud del Instituto Mexicano del Seguro Social para el Bienestar (IMSS-BIENESTAR). Por otra parte, solicito el número de unidades con nombre, descripción, precio de adquisición y código (clave de cuadro básico) de cada uno de los medicamentos (Grupos 010, 030 y 040), Vacunas (020) que surtieron (entradas) a cada uno de los Institutos, Hospitales y Clínicas durante MARZO 2026. Favor de proporcionar dicha información en archivo electrónico (hoja de cálculo Excel) | E15: Contestada | F15: Se pone a disposición la información para consulta directa. | G15: 46121 | H15: SSSLP/UT.096/2026 | I15: 0 | J15: PNT | K15: 0 | L15: =IF('marzo 2026'!$C14<>"",MONTH(C14),"") -> 3 | M15: =IF('marzo 2026'!$G15<>"",MONTH(G15),"") -> 4 | N15: 3 | O15: 4
A16: 241230326000086 | B16: Solicitante | C16: 46113 | D16: Buen día: Solicito de la manera más atenta en archivo(s) electrónico(s) de Excel, la COMPRA, ENTRADA O ADQUISICIÓN realizada por los SERVICIOS DE SALUD DE SAN LUIS POTOSÍ, a través de licitación, adjudicación directa, compra directa, invitación a 3, donación o transferencia, bajo algún programa o presupuesto recibido por la institución, de todos los insumos para la salud, que se clasifican en los siguientes grupos: 060, 070, 080, 081, 379, 500, 501, 526, 531, 533, 535, 537, 540. Los cuales están conformados dentro del Compendio Nacional de Insumos para la Salud (CNIS) por: MATERIAL DE CURACIÓN AGENTES DE DIAGNÓSTICO MATERIAL QUIRÚRGICO AUXILIARES DE DIAGNÓSTICO INSTRUMENTAL Y EQUIPO MÉDICO OSTEOSÍNTESIS, ENDOPRÓTESIS Y AYUDAS FUNCIONALES MATERIAL RADIOLÓGICO MATERIAL DE LABORATORIO INSUMOS DE USO ODONTOLÓGICO PROTESIS, ORTESIS Y AYUDAS FUNCIONALES De TODO el mes de MARZO de 2026. Datos Requeridos: Mes de adquisición y/o entrada de cada uno de los insumos médicos para la salud. Claves y descripciones del insumo para la salud, conforme al Compendio Nacional de Insumos para la Salud (CNIS) emitido por el Consejo de Salubridad General (CSG), de cada insumo para la salud (En caso de ser un insumo para la salud sin clave dentro del CNIS, especificar solamente la descripción completa del insumo). Cantidad entregada o ejercida de cada insumo para la salud; con el detalle del mes en el que fue ejercido o entregado. Marca, número de registro sanitario y/o fabricante. Tipo y numero de evento el cual fue adquirido (Licitación, adjudicación directa, invitación a 3, programa, compra directa, etc). Contrato y/o factura u orden de compra. Proveedor ganador o asignado a cada uno de los registros. Precio unitario e importe de cada uno de los registros. Aclaro que no se está solicitando información de carácter confidencial. Nota: No requiero las cantidades mínimas y máximas (requiero cantidades reales que se entregaron en el periodo de MARZO de 2026) Agradezco de antemano la atención prestada a esta solicitud. Quedo atento(a) a cualquier comentario o requerimiento adicional para su adecuada atención. Gracias por su amable atención | E16: Contestada | F16: Se pone a disposición la información para consulta directa. | G16: 46132 | H16: SSSLP/UT.105/2026 | I16: 0 | J16: PNT | K16: 0 | L16: =IF('marzo 2026'!$C15<>"",MONTH(C15),"") -> 3 | M16: =IF('marzo 2026'!$G16<>"",MONTH(G16),"") -> 4 | N16: 4 | O16: 4 | Q16: 1
A17: 241230326000087 | B17: Solicitante | C17: 46113 | D17: Buen día. Por medio de la presente, reciba un cordial saludo. Solicito atentamente se me proporcione, en archivo(s) electrónico(s), la relación completa de los CONSUMOS, de TODO el mes de MARZO de 2026., de los insumos para la salud correspondientes a los SERVICIOS DE SALUD DE SAN LUIS POTOSÍ, clasificados en los siguientes grupos: 060, 070, 080, 081, 379, 500, 501, 526, 531, 533, 535, 537 y 540. Dichos grupos se encuentran contenidos en el Compendio Nacional de Insumos para la Salud (CNIS) y corresponden a los siguientes rubros: Material de curación Agentes de diagnóstico Material quirúrgico Auxiliares de diagnóstico Instrumental y equipo médico Osteosíntesis, endoprótesis y ayudas funcionales Material radiológico Material de laboratorio Insumos de uso odontológico Prótesis, ortesis y ayudas funcionales La información solicitada deberá incluir el detalle por cada clave, conforme a lo siguiente: Clave y descripción completa del insumo, según el CNIS. Número de piezas CONSUMIDAS. Precio unitario correspondiente a cada registro. Mes de CONSUMO, especificando el consumo real total por clave, sin considerar el origen de la misma. Cabe señalar que la información solicitada no corresponde a datos de carácter confidencial. Agradezco de antemano la atención brindada a esta solicitud y quedo a disposición para cualquier | E17: Contestada | F17: Sujeto obligado no competente, se le orienta ante qué sujeto obligado presentar su solicitud de información. | G17: 46120 | H17: SSSLP/UT.090/2026 | I17: 0 | J17: PNT | K17: 0 | L17: =IF('marzo 2026'!$C16<>"",MONTH(C16),"") -> 4 | M17: =IF('marzo 2026'!$G17<>"",MONTH(G17),"") -> 4 | N17: 4 | O17: 4 | Q17: 2
A18: 241230326000088 | B18: Juan Carlos Mandujano | C18: 46113 | D18: Buen día: Solicito de la manera más atenta en archivo (s) electrónico (s) de Excel, el DETALLE ESPECÍFICO de las compras y entradas de MEDICAMENTOS, VACUNAS, LÁCTEOS, ESTUPEFACIENTES Y PSICOTRÓPICOS, para cubrir las necesidades de la SERVICIOS DE SALUD EN EL ESTADO DE SAN LUIS POTOSI durante TODO el MES de MARZO del 2026. Con el siguiente detalle de información: Unidad Médica o Servicio: Nombre de la unidad médica o el servicio donde se entregó el medicamento. Mes de Compra: Mes en el que se realizó la compra del medicamento. Tipo de Evento: Especificación del tipo de proceso mediante el cual se adquirió el medicamento (Licitación, Adjudicación Directa, o Invitación a 3). Número de Evento: Número asignado al evento de adquisición. Número de Factura o Contrato: Identificación de la factura o contrato relacionado con la compra. Proveedor: Nombre del proveedor que entregó los medicamentos. Descripción del Medicamento: Detalle claro y específico del medicamento adquirido. Clave de cuadro básico: Claves Específica del medicamento. Marca o Fabricante: Nombre de la marca o del fabricante del medicamento. Cantidad de Piezas: Número total de unidades del medicamento adquiridas. Precio Unitario e Importe Total: Precio unitario del medicamento y el importe total correspondiente a cada registro de compra. Aclaro que no se está solicitando información de carácter confidencial. Agradezco de antemano la atención prestada a esta solicitud. Quedo atento(a) a cualquier comentario o requerimiento adicional para su adecuada atención. Gracias por su amable atención | E18: Contestada | F18: Sujeto obligado no competente, se le orienta ante qué sujeto obligado presentar su solicitud de información. | G18: 46120 | H18: SSSLP/UT.088/2026 | I18: 0 | J18: PNT | K18: 0 | L18: =IF('marzo 2026'!$C17<>"",MONTH(C17),"") -> 4 | M18: =IF('marzo 2026'!$G18<>"",MONTH(G18),"") -> 4 | N18: 4 | O18: 4 | Q18: 3
A19: 241230326000089 | B19: Solicitante | C19: 46118 | D19: Buen día. Por medio de la presente, reciba un cordial saludo. Solicito atentamente se me proporcione, en archivo(s) electrónico(s), la relación completa de los INVENTARIOS, del mes de MARZO de 2026., de insumos para la salud correspondientes a los SERVICIOS DE SALUD DE SAN LUIS POTOSÍ, clasificados en los siguientes grupos: 060, 070, 080, 081, 379, 500, 501, 526, 531, 533, 535, 537 y 540. Dichos grupos se encuentran contenidos en el Compendio Nacional de Insumos para la Salud (CNIS) y corresponden a los siguientes rubros: Material de curación Agentes de diagnóstico Material quirúrgico Auxiliares de diagnóstico Instrumental y equipo médico Osteosíntesis, endoprótesis y ayudas funcionales Material radiológico Material de laboratorio Insumos de uso odontológico Prótesis, ortesis y ayudas funcionales La información solicitada deberá incluir el detalle por cada clave, conforme a lo siguiente:- Número de piezas totales en INVENTARIO al cierre del mes solicitado de cada clave de cuadro básico.- Clave de cuadro básico y descripción completa con base al Compendio Nacional de Insumos para la Salud. Cabe señalar que la información solicitada no corresponde a datos de carácter confidencial. Agradezco de antemano la atención brindada a esta solicitud y quedo a disposición para cualquier aclaración o información adicional que se requiera. Muchas gracias. | E19: Contestada | F19: Sujeto obligado no competente, se le orienta ante qué sujeto obligado presentar su solicitud de información. | G19: 46120 | H19: SSSLP/UT.091/2026 | I19: 0 | J19: PNT | K19: 0 | L19: =IF('marzo 2026'!$C18<>"",MONTH(C18),"") -> 4 | M19: =IF('marzo 2026'!$G19<>"",MONTH(G19),"") -> 4 | N19: 4 | O19: 4 | Q19: 4
A20: 241230326000090 | B20: Juan Carlos Mandujano | C20: 46118 | D20: Buen día, por este medio le envío un cordial saludo Para nuestra asociación es de suma relevancia solicitar a su honorable Institución, el detalle de las piezas de medicamentos (grupos 010, 020, 030 y 040) en inventario del almacén o almacenes estatales de la SECRETARÍA DE SALUD DE SAN LUIS POTOSÍ al cierre del mes de MARZO de 2026 entendiéndose por piezas en inventario las piezas totales en stock o inventario al cierre de mes. El detalle de información que se requiere es el siguiente: Clave de cuadro básico y descripción completa del medicamento Nombre del almacén o almacenes donde se encuentran en inventario los medicamentos Número de piezas totales en inventario al cierre de mes de cada clave de cuadro básico. La presente solicitud toma como base los Artículos 4, 7, 9, 13, 17,18, 19, 40, 43 y 63 (inciso VI) de la Ley General de Transparencia y Acceso a la Información Pública Gubernamental, y se considera que, en los términos del Título Sexto, Capítulo Segundo Artículo 113 de la misma ley, la presente solicitud no está abarcando ninguna información considerada como reservada o confidencial. Gracias por su amable atención. | E20: Contestada | F20: Se tiene por no presentada la solicitud de información, por no atender requerimiento en plazo. | G20: 46120 | H20: SSSLP/UT.088/2026 | I20: 0 | J20: PNT | K20: 0 | L20: =IF('marzo 2026'!$C19<>"",MONTH(C19),"") -> 4 | M20: =IF('marzo 2026'!$G20<>"",MONTH(G20),"") -> 4 | N20: 4 | O20: 4 | Q20: 5
A21: 241230326000091 | B21: Juan Carlos Mandujano | C21: 46119 | D21: Buen día, por este medio le envío un cordial saludo Para nuestra asociación es de suma relevancia solicitar a su honorable Institución, el detalle de las piezas desplazadas de medicamentos (grupos 010, 020, 030 y 040) del almacén o almacenes estatales hacia las diferentes unidades médicas y hospitales de la SECRETARÍA DE SALUD DE SAN LUIS POTOSÍ durante TODO el mes de MARZO de 2026 , entendiéndose por piezas desplazadas como las piezas enviadas o surtidas de almacén a unidades médicas y hospitales. El detalle de información que se requiere es el siguiente: Clave de cuadro básico y descripción completa del medicamento Nombre del almacén de donde salió el medicamento Nombre de la unidad médica u hospital que recibió el medicamento, número de piezas totales desplazadas (o enviadas) a cada unidad médica u hospital por cada clave de cuadro básico, nombre del distribuidor que entregó. Gracias por su amable atención. | E21: Contestada | F21: Sujeto obligado no competente, se le orienta ante qué sujeto obligado presentar su solicitud de información. | G21: 46120 | H21: SSSLP/UT.092/2026 | I21: 0 | J21: PNT | K21: 0 | L21: =IF('marzo 2026'!$C20<>"",MONTH(C20),"") -> 4 | M21: =IF('marzo 2026'!$G21<>"",MONTH(G21),"") -> 4 | N21: 4 | O21: 4 | Q21: 6
A22: 241230326000092 | B22: Juan Carlos Mandujano | C22: 46119 | D22: Buen día: Por medio de la presente, solicito de la manera más atenta se me proporcione, en archivo electrónico (preferentemente en formato Excel o en el formato disponible), la información correspondiente a cada RECETA médica emitida a pacientes durante el mes de MARZO de 2026. Para cada receta, se solicita incluir los siguientes datos: 1. Clave completa del cuadro básico del medicamento 2. Descripción completa del medicamento 3. Número de piezas por cada clave en cada receta 4. Nombre de la unidad médica donde se generó la receta 5. Delegación, mes y fecha de expedición 6. Número de matrícula, cédula profesional y nombre del médico prescriptor Es importante precisar que únicamente se requiere la información relacionada con los medicamentos consignados en cada receta, sin incluir datos personales de los pacientes. Asimismo, se aclara que esta solicitud no implica el acceso a información confidencial ni a datos personales que vulneren la privacidad de pacientes o del personal médico. Agradezco de antemano la atención brindada a la presente y quedo atento(a) a cualquier comentario o información adicional que se requiera para su debida atención. | E22: Contestada | F22: Se pone a disposición la información para consulta directa. | G22: 46125 | H22: SSSLP/UT.097/2026 | I22: 0 | J22: PNT | K22: 0 | L22: =IF('marzo 2026'!$C22<>"",MONTH(C22),"") -> 4 | M22: =IF('marzo 2026'!$G22<>"",MONTH(G22),"") -> 4 | N22: 4 | O22: 4 | Q22: 7
A23: 241230326000093 | B23: Felipe Hernandez | C23: 46121 | D23: Solicito conocer el aviso de funcionamiento y cédula de verificación por parte de la coepris del consultorio médico y dispensario de medicamentos del ayuntamiento de rayón SLP de la actual administración 2024 a 2027 El cual se encuentra dentro de un asilo conformado por una asociación civil. En caso de que no se contara con dichos permiso y registros. Se solicita la confirmación de la clausura a dicho establecimiento por el incumplimiento en la normatividad vigente, monto de multa que se impondrá y adjuntar evidencia de lo anterior. Información solicitada Plazos El establecimiento se encuentra en calle zamacona 176 barrio san Antonio rayón SLP. | E23: Contestada | F23: Se pone a disposición la información para consulta directa. | G23: 46128 | H23: SSSLP/UT.100/2026 | I23: 0 | J23: PNT | K23: 0 | L23: =IF('marzo 2026'!$C23<>"",MONTH(C23),"") -> 4 | M23: =IF('marzo 2026'!$G23<>"",MONTH(G23),"") -> 4 | N23: 4 | O23: 4 | Q23: 8
A24: 241230326000094 | B24: EDUARDO rojas lopez | C24: 46121 | D24: Asunto: Solicitud de información estadística sobre pacientes con trastornos de la coagulación (CIE-10 D65–D69) Solicitud: Por medio de la presente, solicito atentamente su valiosa colaboración para la obtención de información estadística desagregada correspondiente a los pacientes atendidos en las unidades de su institución, de acuerdo con los criterios que se detallan a continuación: Información requerida Se solicita el número de pacientes atendidos (no número de atenciones) en los siguientes servicios:- Servicios/consultas de especialidades- Servicios/consultas de medicina familiar y/o general- Atención en servicios de urgencias- Unidades de Cuidados Intensivos (UCI)- Número total pacientes hospitalizados Lo anterior, considerando como universo a los pacientes con diagnóstico principal o secundario conforme a los siguientes códigos de la Clasificación Internacional de Enfermedades (CIE-10): Trastornos de la coagulación y hemorrágicos:- D65X Coagulación intravascular diseminada- D66X Deficiencia hereditaria del Factor VIII (Hemofilia A)- D67X Deficiencia hereditaria del Factor IX (Hemofilia B) Otros defectos de la coagulación:- D680 Enfermedad de Von Willebrand- D681 Deficiencia hereditaria del Factor XI- D682 Deficiencia hereditaria de otros factores de la coagulación- D685 Trombofilia primaria- D686 Otra trombofilia- D688 Otros defectos especificados de la coagulación- D689 Defecto de la coagulación no especificado Púrpuras y otras afecciones hemorrágicas:- D690 Púrpura alérgica- D691 Defectos cualitativos de las plaquetas- D693 Púrpura trombocitopénica idiopática- D694 Otras trombocitopenias primarias- D695 Trombocitopenia secundaria- D696 Trombocitopenia no especificada- D698 Otras afecciones hemorrágicas especificadas- D699 Afección hemorrágica no especificada Desagregación de la información solicitada La información deberá presentarse, en la medida de lo posible, conforme a los siguientes desgloses:- Por año: de 2005 a 2025 (sin incluir sumatorias acumuladas)- Por entidad federativa o delegación (en caso de aplicar)- Por sexo: hombres y mujeres- Por edad: (según clasificación institucional disponible)- Por nivel de atención: primer, segundo y tercer nivel - Por unidad hospitalaria: nombre de la unidad, en caso de disponibilidad- Por tipo de atención: primera vez y subsecuente- Por servicio de especialidad: especificando el nombre del servicio- Por diagnóstico principal: conforme a CIE-10 a 3 o 4 dígitos Consideraciones metodológicas (muy importante) Se solicita amablemente:- Aclarar si los datos corresponden a: ¿ Pacientes únicos ¿ Eventos de atención- Especificar la fuente de información (sistemas institucionales, egresos hospitalarios, etc.) Formato de entrega Se solicita que la información sea proporcionada en formato abierto (Excel o CSV), en la medida de lo posible. Nota adicional En caso de que la información no se encuentre disponible con el nivel de desagregación solicitado, se agradecerá proporcionar la información con el mayor nivel de detalle disponible. Agradezco de antemano la atención brindada a la presente solicitud y quedo atento(a) a cualquier información adicional que sea necesaria para su adecuada gestión. Sin otro particular, reciba un cordial saludo. Plazo | E24: Contestada | F24: Se pone a disposición la información para consulta directa. | G24: 46132 | H24: SSSLP/UT.101/2026 | I24: 0 | J24: PNT | K24: 0 | L24: =IF('marzo 2026'!$C24<>"",MONTH(C24),"") -> 4 | M24: =IF('marzo 2026'!$G24<>"",MONTH(G24),"") -> 4 | N24: 4 | O24: 4 | Q24: 9
A25: 241230326000095 | B25: EDUARDO rojas lopez | C25: 46121 | D25: Ver archivo adjunto | E25: Contestada | F25: Se pone a disposición la información para consulta directa. | G25: 46132 | H25: SSSLP/UT.102/2026 | I25: 0 | J25: PNT | K25: 0 | L25: =IF('marzo 2026'!$C25<>"",MONTH(C25),"") -> 4 | M25: =IF('marzo 2026'!$G25<>"",MONTH(G25),"") -> 4 | N25: 4 | O25: 4 | Q25: 10
A26: 241230326000096 | B26: EDUARDO rojas lopez | C26: 46121 | D26: Asunto: Solicitud de información sobre registro o censo de pacientes con hemofilia Solicitud: Por medio de la presente, solicito atentamente su valiosa colaboración para la obtención de información relacionada con la existencia, estructura y contenido de registros o censos institucionales de pacientes con hemofilia, atendidos en las unidades médicas de su institución. 1. Existencia de registro o censo Se solicita indicar si la institución cuenta con: • Algún registro, censo, base de datos o sistema de información institucional que concentre pacientes con diagnóstico de hemofilia (Hemofilia A y/o Hemofilia B). En caso afirmativo, se solicita proporcionar: • Nombre del registro o sistema • Área responsable de su administración • Periodo de cobertura disponible 2. Información del censo (en caso de disponibilidad) En caso de contar con dicho registro, se solicita la siguiente información agregada: ¿ 2.1 Número de pacientes • Número total de pacientes registrados con diagnóstico de hemofilia Desagregado por: • Año (idealmente del 2005 al 2025) • Tipo de hemofilia: o Hemofilia A (CIE-10: D66) o Hemofilia B (CIE-10: D67) ¿ 2.2 Características demográficas • Sexo • Grupos de edad • Entidad federativa o delegación • Unidad médica de atención ¿ 2.3 Clasificación clínica (en caso de disponibilidad) • Presencia de inhibidores: o Con inhibidores o Sin inhibidores ¿ 2.4 Tratamiento (en caso de disponibilidad) Distribución de pacientes conforme al tipo de tratamiento recibido, incluyendo, pero no limitado a: • Terapia de reemplazo con factor VIII • Terapia de reemplazo con factor IX • Factores de vida media extendida • Agentes bypass (ej. factor VIIa recombinante) • Terapias no sustitutivas (ej. anticuerpos monoclonales) ¿ 2.5 Tipo de manejo En caso de disponibilidad: • Tratamiento profiláctico • Tratamiento a demanda 3. Consideraciones metodológicas Se solicita amablemente especificar: • Definición operativa de “paciente registrado” • Fuente de información (registro clínico, sistema administrativo, programa institucional, etc.) • Periodicidad de actualización del registro • Si los datos corresponden a pacientes únicos 4. Formato de entrega Se solicita que la información sea proporcionada en formato abierto (Excel o CSV), en la medida de lo posible. 5. Nota importante En caso de que la institución no cuente con un censo o registro específico, se solicita amablemente indicar: • Si existe algún sistema alterno donde se concentre información de estos pacientes • O bien, proporcionar cualquier información disponible relacionada con pacientes con hemofilia Agradezco de antemano la atención brindada a la presente solicitud y quedo atento(a) a cualquier información adicional que sea necesaria para su adecuada gestión. Sin otro particular, reciba un cordial saludo. Plazo | E26: Contestada | F26: Se pone a disposición la información para consulta directa. | G26: 46132 | H26: SSSLP/UT.103/2026 | I26: 0 | J26: PNT | K26: 0 | L26: =IF('marzo 2026'!$C26<>"",MONTH(C26),"") -> 4 | M26: =IF('marzo 2026'!$G26<>"",MONTH(G26),"") -> 4 | N26: 4 | O26: 4 | Q26: 11
A27: 241230326000097 | B27: Ricardo García Castro | C27: 46123 | D27: Solicito copia en versión pública y en formato digital de toda la documentación que obre en los archivos físicos y electrónicos de Servicios de Salud de San Luis Potosí, a través de la Comisión Estatal para la Protección contra Riesgos Sanitarios (COEPRIS), relacionada con el producto denominado “Malditos Traidores”, en el periodo comprendido de 2020 a la fecha, incluyendo de manera enunciativa mas no limitativa registro sanitario, titular del registro, responsable sanitario, planta envasadora, domicilio de la planta, estatus del registro, autorizaciones, licencias, verificaciones sanitarias, visitas de inspección, dictámenes, resoluciones, procedimientos administrativos, sanciones, clausuras, así como el expediente completo que se haya generado con motivo de su regulación, control o vigilancia sanitaria. Se solicita que la información sea entregada en versión pública, con testado de datos personales en caso de ser necesario, incluyendo la totalidad de los documentos existentes, tales como oficios, actas, reportes, registros internos, bases de datos o cualquier otro soporte documental. En caso de que no exista alguno de los documentos solicitados, se requiere que se funde y motive la inexistencia, acreditando la búsqueda exhaustiva realizada en todas las áreas competentes, archivos y sistemas institucionales. Asimismo, se solicita que la entrega se realice en formato PDF con certificación digital, en caso de ser posible. | E27: Contestada | F27: Se pone a disposición la información para consulta directa. | G27: 46133 | H27: SSSLP/UT.104/2026 | I27: 0 | J27: PNT | K27: 0 | N27: 4 | O27: 4 | Q27: 12
A28: 241230326000098 | B28: Camila Ceballos Ortiz | C28: 46125 | D28: RELACION DE PLAZAS VACANTES DE TRABAJADORES QUE CAUSARON BAJA POR JUBILACION, CESE, RENUNCIA, GRAVIDEZ, MUERTE. ESPECIFICANDO NOMBRE DEL SERVIDOR PUBLICO QUE GENERO LA VACANTE, CODIGO-FUNCION, ADSCRIPCION Y ESTATUS DE LA PLAZA VACANTE. Cabe hacer mención que la información no se encuentra disponible, ni actualizada en la Plataforma Nacional de Transparencia. | E28: Contestada | F28: Se pone a disposición la información para consulta directa. | G28: 46134 | H28: SSSLP/UT.109/2026 | I28: 0 | J28: PNT | K28: 0 | N28: 4 | O28: 4 | Q28: 13
A29: 241230326000099 | B29: José Quiltro Ramírez | C29: 46125 | D29: 1.- ¿Cuántos servicios o atenciones realizaron en atención al acato de un amparo promovido por el paciente durante 2025, 2024 y 2023 en el estado de San Luis Potosí? 2.- ¿Cuántos amparos en reclamo de atención al derecho a la salud fueron presentados contra la institución en el estado de San Luis Potosí durante 2023, 2024 y 2025? 3.- ¿Cuánta inversión aplicó la institución en sus instalaciones, equipamiento y plantilla en el estado de San Luis Potosí para ampliar su capacidad de servicio? | E29: Contestada | F29: Se pone a disposición la información para consulta directa. | G29: 46134 | H29: SSSLP/UT.106/2026 | I29: 0 | J29: PNT | K29: 0 | N29: 4 | O29: 4 | Q29: 14
A30: 241230326000100 | B30: Ricardo García Castro | C30: 46131 | D30: SUJETO OBLIGADO: Servicios de Salud del Estado de San Luis Potosí (COEPRIS – Comisión Estatal para la Protección contra Riesgos Sanitarios) SOLICITUD: Solicito, en versión pública y en formato electrónico PDF, con certificación o firma electrónica, todas las actas de verificación sanitaria, visitas de inspección, dictámenes o resoluciones emitidas respecto del establecimiento ubicado en Avenida Dr. Manuel Nava número 304, colonia Bellas Lomas, San Luis Potosí, S.L.P. Incluyendo: a) Fecha de cada verificación b) Motivo de la visita c) Superficie inspeccionada (si consta) d) Condiciones sanitarias detectadas e) Medidas de seguridad o corrección impuestas f) Sanciones o clausuras, en su caso Periodo: del 1 de enero de 2024 a la fecha de respuesta, incluyendo actuaciones en trámite. Se solicita versión pública mediante disociación. Se solicita entrega a través de la Plataforma Nacional de Transparencia. | E30: Contestada | F30: Información Inexistente | G30: 46141 | H30: SSSLP/UT.114/2026 | I30: 0 | J30: PNT | K30: 0 | N30: 4 | O30: 4 | Q30: 15
A31: 241230326000101 | B31: Ricardo García Castro | C31: 46131 | D31: SUJETO OBLIGADO: Servicios de Salud del Estado de San Luis Potosí (COEPRIS – Comisión Estatal para la Protección contra Riesgos Sanitarios) SOLICITUD: Solicito, en versión pública y en formato electrónico PDF, con certificación o firma electrónica del funcionario competente, el aviso de funcionamiento, autorización sanitaria o cualquier documento emitido por COEPRIS respecto del establecimiento ubicado en Avenida Dr. Manuel Nava número 304, colonia Bellas Lomas, C.P. 78210, San Luis Potosí, S.L.P. Incluyendo: a) Tipo de aviso o autorización sanitaria b) Fecha de presentación o autorización c) Giro sanitario autorizado d) Superficie del establecimiento (m², si consta) e) Actividades autorizadas (preparación de alimentos, bebidas, etc.) f) Vigencia o estatus sanitario Periodo: del 1 de enero de 2024 a la fecha de respuesta de la presente solicitud. El domicilio señalado se encuentra en operación, por lo que la información debió generarse previamente y obrar en archivos del sujeto obligado. Se solicita que la búsqueda se realice en archivos físicos, electrónicos, sistemas internos y bases de datos sanitarias. En caso de inexistencia, se solicita manifestación expresa debidamente fundada. Se precisa que no se solicitan datos personales, por lo que deberá generarse versión pública mediante disociación | E31: Contestada | F31: Información Inexistente | G31: 46141 | H31: SSSLP/UT.115/2026 | I31: 0 | J31: PNT | K31: 0 | N31: 4 | O31: 4 | Q31: 16
A32: 241230326000102 | B32: JUAN HECTOR GARZA CESPEDES | C32: 46132 | D32: Quiero que se exhiba el aviso de responsable sanitario a nombre de Juan Hector Garza Cespedes, la cual originó la expedición de la licencia: No 94-275. Respecto del examen de valuación de responsable sanitario, celebrado el viernes 6 de mayo de 1994. a cargo de la antes llamada subjefatura de regulación sanitaria departamento de salud ambiental, de los servicios coordinados de salud publica del estado de San Luis Potosí | E32: Contestada | F32: Sujeto obligado no competente, se le orienta ante qué sujeto obligado presentar su solicitud de información. | G32: 46135 | H32: SSSLP/UT.107/2026 | I32: 0 | J32: PNT | K32: 0 | N32: 4 | O32: 4 | Q32: 17
A33: 241230326000103 | B33: Solicitante | C33: 46133 | D33: Buen día. Por medio de la presente, reciba un cordial saludo. Solicito atentamente se me proporcione, en archivo(s) electrónico(s), la relación completa de los CONSUMOS, de TODO el mes de FEBRERO de 2026., de los insumos para la salud correspondientes a los SERVICIOS DE SALUD DE SAN LUIS POTOSÍ, clasificados en los siguientes grupos: 060, 070, 080, 081, 379, 500, 501, 526, 531, 533, 535, 537 y 540. Dichos grupos se encuentran contenidos en el Compendio Nacional de Insumos para la Salud (CNIS) y corresponden a los siguientes rubros: Material de curación Agentes de diagnóstico Material quirúrgico Auxiliares de diagnóstico Instrumental y equipo médico Osteosíntesis, endoprótesis y ayudas funcionales Material radiológico Material de laboratorio Insumos de uso odontológico Prótesis, ortesis y ayudas funcionales La información solicitada deberá incluir el detalle por cada clave, conforme a lo siguiente: Clave y descripción completa del insumo, según el CNIS. Número de piezas CONSUMIDAS. Precio unitario correspondiente a cada registro. Mes de CONSUMO, especificando el consumo real total por clave, sin considerar el origen de la misma. Cabe señalar que la información solicitada no corresponde a datos de carácter confidencial. Agradezco de antemano la atención brindada a esta solicitud y quedo a disposición para cualquier aclaración o información adicional que se requiera. Muchas gracias. Plazo para dar respuesta | E33: Contestada | F33: Sujeto obligado no competente, se le orienta ante qué sujeto obligado presentar su solicitud de información. | G33: 46134 | H33: SSSLP/UT.107/2026 | I33: 0 | J33: PNT | K33: 0 | L33: =IF('marzo 2026'!#REF!<>"",MONTH(#REF!),"") -> #REF! | M33: =IF('marzo 2026'!$G33<>"",MONTH(G33),"") -> 4 | N33: 4 | O33: 4 | Q33: 18
A34: 241230326000104 | B34: Solicitante | C34: 46133 | D34: Buen día. Por medio de la presente, reciba un cordial saludo. Solicito atentamente se me proporcione, en archivo(s) electrónico(s), la relación completa de los INVENTARIOS, del mes de FEBRERO de 2026., de insumos para la salud correspondientes a los SERVICIOS DE SALUD DE SAN LUIS POTOSÍ, clasificados en los siguientes grupos: 060, 070, 080, 081, 379, 500, 501, 526, 531, 533, 535, 537 y 540. Dichos grupos se encuentran contenidos en el Compendio Nacional de Insumos para la Salud (CNIS) y corresponden a los siguientes rubros: Material de curación Agentes de diagnóstico Material quirúrgico Auxiliares de diagnóstico Instrumental y equipo médico Osteosíntesis, endoprótesis y ayudas funcionales Material radiológico Material de laboratorio Insumos de uso odontológico Prótesis, ortesis y ayudas funcionales La información solicitada deberá incluir el detalle por cada clave, conforme a lo siguiente:- Número de piezas totales en INVENTARIO al cierre del mes solicitado de cada clave de cuadro básico.- Clave de cuadro básico y descripción completa con base al Compendio Nacional de Insumos para la Salud. Cabe señalar que la información solicitada no corresponde a datos de carácter confidencial. Agradezco de antemano la atención brindada a esta solicitud y quedo a disposición para cualquier aclaración o información adicional que se requiera. Muchas gracias | E34: Contestada | F34: Sujeto obligado no competente, se le orienta ante qué sujeto obligado presentar su solicitud de información. | G34: 46134 | H34: SSSLP/UT.108/2026 | I34: 0 | J34: PNT | K34: 0 | L34: =IF('marzo 2026'!#REF!<>"",MONTH(#REF!),"") -> #REF! | M34: =IF('marzo 2026'!$G34<>"",MONTH(G34),"") -> 4 | N34: 4 | O34: 4 | Q34: 19
A35: 241230326000105 | B35: REBECA hernandez gva | C35: 46135 | D35: Con fundamento en los artículos de la Ley de Transparencia y Acceso a la Información Pública, solicito información pública sobre el programa denominado *Clínicas Rosas* en el Estado de San Luis Potosí, incluyendo: 1. Número total de clínicas en operación y su ubicación exacta. 2. Servicios médicos, odontológicos y de apoyo que se ofrecen en cada clínica. 3. Número de personas atendidas por clínica desde su creación hasta la fecha. 4. Número de pacientes atendidos por clínica en cada año de operación. 5. Horario de atención y días de servicio de cada clínica. 6. Presupuesto asignado y ejercido anualmente para el programa. 7. Convenios o coordinación con instituciones federales, municipales o privadas. 8. Evaluaciones, indicadores de desempeño o resultados oficiales disponibles. 9. Número de pacientes que, por diagnósticos críticos o necesidades médicas más complejas, han tenido que ser canalizados a otras instituciones de salud para continuar su atención. 10. Copias simples de facturas y comprobantes de compras efectuadas para las Clínicas Rosas, especificando el nombre de los proveedores y el monto de cada operación. Desde fecha de inicia, hasta el 31 de marzo del 2026 | E35: Contestada | F35: Sujeto obligado no competente, se le orienta ante qué sujeto obligado presentar su solicitud de información. | G35: 46136 | H35: SSSLP/UT.111/2026 | I35: 0 | J35: PNT | K35: 0 | L35: =IF('marzo 2026'!#REF!<>"",MONTH(#REF!),"") -> #REF! | M35: =IF('marzo 2026'!$G35<>"",MONTH(G35),"") -> 4 | N35: 4 | O35: 4 | Q35: 20
A36: 241230326000106 | B36: doraceli rodriguez velazquez | C36: 46136 | D36: SOLICITO EXPEDIENTE CLINICO DEL HOSPITAL GENERAL DEL ISSSTE "CARLOS DIEZ GUTIERREZ" PARA TRAMITE DE POLIZA DE SEGURO MEDLIFE | E36: Contestada | F36: Sujeto obligado no competente, se le orienta ante qué sujeto obligado presentar su solicitud de información. | G36: 46139 | H36: SSSLP/UT.111/2026 | I36: 0 | J36: PNT | K36: 0 | L36: =IF('marzo 2026'!#REF!<>"",MONTH(#REF!),"") -> #REF! | M36: =IF('marzo 2026'!$G36<>"",MONTH(G36),"") -> 4 | N36: 4 | O36: 4 | Q36: 21
A37: 241230326000107 | B37: Solicitante | C37: 46141 | D37: Solicito ver Expediente clínico completo, notas médicas y estudios de laboratorio del paciente JOSE DE JESUS DEL RIO SANCHEZ, es mi papá y fallecio el 1 de enero 2021 | E37: Contestada | F37: Sujeto obligado no competente, se le orienta ante qué sujeto obligado presentar su solicitud de información. | G37: 46141 | H37: SSSLP/UT.117/2026 | I37: 0 | J37: PNT | K37: 0 | L37: =IF('marzo 2026'!#REF!<>"",MONTH(#REF!),"") -> #REF! | M37: =IF('marzo 2026'!$G37<>"",MONTH(G37),"") -> 4 | N37: 4 | O37: 4 | Q37: 22
A38: 241230326000108 | B38: Ligia Sosa C | C38: 46141 | D38: A quien corresponda; En archivo adjunto encontrará solicitud de información. En espera de su valiosa respuesta, quedo a sus órdenes. Muchas gracias. | E38: Contestada | F38: Sujeto obligado no competente, se le orienta ante qué sujeto obligado presentar su solicitud de información. | G38: 46142 | H38: SSSLP/UT.116/2026 | I38: 0 | J38: PNT | K38: 0 | L38: =IF('marzo 2026'!#REF!<>"",MONTH(#REF!),"") -> #REF! | M38: =IF('marzo 2026'!$G38<>"",MONTH(G38),"") -> 4 | N38: 4 | O38: 4 | Q38: 23
A39: 241230326000109 | B39: Teresa Hernández | C39: 46142 | D39: Con fundamento en los artículos 6° de la Constitución Política de los Estados Unidos Mexicanos; 1, 2, 40, 121, 122, 124, 125, 126 y demás relativos de la Ley General de Transparencia y Acceso a la Información Pública (LGTAIP); así como en los artículos correspondientes de la Ley de Transparencia del Estado del estado, solicito respetuosamente a esa Unidad de Transparencia la siguiente información: ¿Cuántas clínicas y agencias tienen registro de que operan dando servicios de gestación subrogada o maternidad subrogada en el estado? Favor de indicar el número de clínicas registradas por su dependencia y sus razones sociales o nombres comerciales. Todo lo anterior desde que existan registros al respecto, a la fecha de esta solicitud. ¿Cuántas de ellas operan al margen de la ley y cuántas cuentan con un registro expedido por la Secretaría de Salud local? En caso de que no exista ninguna entidad autorizada para este tipo de servicios en el estado, se solicita constancia o confirmación oficial de dicha circunstancia. Favor de indicar qué norma jurídica, reglamento o acuerdo administrativo regula actualmente en el estado la habilitación, supervisión y sanción de clínicas o agencias que ofrezcan servicios de gestación subrogada. En caso de que no exista regulación específica, indicar qué dependencia o área tiene atribuciones para supervisar o sancionar a quienes ofrezcan estos servicios sin autorización. También solicito número de denuncias, quejas o reportes recibidos relacionados con la operación irregular o no autorizada de clínicas o agencias de gestación subrogada. Número de visitas de inspección o verificación realizadas a establecimientos que ofrezcan dichos servicios en el mismo periodo. Número y tipo de sanciones impuestas, con indicación de si las entidades sancionadas se encuentran suspendidas o clausuradas a la fecha. | E39: Contestada | F39: Sujeto obligado no competente, se le orienta ante qué sujeto obligado presentar su solicitud de información. | G39: 46142 | H39: SSSLP/UT.118/2026 | I39: 0 | J39: PNT | K39: 0 | L39: =IF('marzo 2026'!#REF!<>"",MONTH(#REF!),"") -> #REF! | M39: =IF('marzo 2026'!$G39<>"",MONTH(G39),"") -> 4 | N39: 4 | O39: 4 | Q39: 24
A40: 241230326000110 | B40: Solicitante | C40: 46142 | D40: 1- Solicito las entregas que realizaron los Proveedores de Medicamentos de cada uno de los medicamentos (Grupos 010, 030 y 040), Vacunas (020) a los diferentes Almacenes o Hospitales durante ABRIL 2026, caracterizado con las siguientes columnas por producto: Nombre del Proveedor, Clave del producto, descripción genérica del producto, nombre del fabricante, nombre comercial, precio unitario, fecha de entrega, cantidad entregada, No. de folio o remisión de entrega, No. de contrato, No. de Licitación o Adjudicación directa así que cantidades Máximas y Mínimas (Qmax y Qmin). Favor de incluir las piezas surtidas por el INSABI, UNOPS, donaciones y el Servicios de Salud del Instituto Mexicano del Seguro Social para el Bienestar (IMSS-BIENESTAR). Por otra parte, solicito el número de unidades con nombre, descripción, precio de adquisición y código (clave de cuadro básico) de cada uno de los medicamentos (Grupos 010, 030 y 040), Vacunas (020) que surtieron (entradas) a cada uno de los Institutos, Hospitales y Clínicas durante ABRIL 2026. Favor de proporcionar dicha información en archivo electrónico (hoja de cálculo Excel). | E40: En trámite | L40: =IF('marzo 2026'!#REF!<>"",MONTH(#REF!),"") -> #REF! | M40: =IF('marzo 2026'!$G40<>"",MONTH(G40),"") | N40: 4 | Q40: 25
Q41: 26
...

Sheet Fundamentación
A1: Art | B1: Fracc | C1: Contenido
A2: 34 | B2: XV | C2: Recibir y sistematizar y, en su caso, requerir los informes mensuales que deberán enviarle los sujetos obligados, relativos a la recepción y tramitación de solicitudes de información pública que hayan recibido
A3: 54 | B3: VIII | C3: Llevar un registro de las solicitudes de acceso a la información, respuestas, resultados, costos de reproducción y envío
A4: 54 | B4: XII | C4: Informar por escrito a la CEGAIP, de forma mensual, sobre las solicitudes de información recibidas, el trámite y respuesta correspondiente en cada caso
B10: Catálogo de Tipos de Respuesta
B12: Respuesta | C12: Descripción
B13: 1 | C13: Información reservada.
B14: 2 | C14: Información confidencial.
B15: 3 | C15: Se pone a disposición la información para consulta directa.
B16: 4 | C16: Se requiere al solicitante.
B17: 5 | C17: Se tiene por no presentada la solicitud de información, por no atender requerimiento en plazo.
B18: 6 | C18: Sujeto obligado no competente, se le orienta ante qué sujeto obligado presentar su solicitud de información.
B19: 7 | C19: Información se encuentra disponible en la Plataforma.
B20: 8 | C20: Entrega de información por correo electrónico.
B21: 9 | C21: Entrega de información previo pago correspondiente.
B22: 10 | C22: Información Inexistente
B23: 11 | C23: Ampliación de Plazo
B24: 12 | C24: Otros
B26: Catálogo de Tipos de Trámites
B28: Trámite | C28: Descripción
B29: 32 | C29: Recibida
B30: 9 | C30: En trámite
B31: 23 | C31: Contestada
B34: Catálogo de Medios de Envío de la Respuesta
B36: Medio | C36: Descripción
B37: 23 | C37: PNT
C38: Correo postal tradicional o por correo certificado con acuse de recibo
C39: Correo electrónico
C40: Personal
C41: Telégrafo
C42: Verbal
